Package: pcaExplorer Version: 2.30.0 Command: /Library/Frameworks/R.framework/Resources/bin/R CMD build --keep-empty-dirs --no-resave-data pcaExplorer StartedAt: 2024-06-10 02:21:05 -0400 (Mon, 10 Jun 2024) EndedAt: 2024-06-10 02:23:54 -0400 (Mon, 10 Jun 2024) EllapsedTime: 168.8 seconds RetCode: 0 Status: OK PackageFile: pcaExplorer_2.30.0.tar.gz PackageFileSize: 10.44 MiB