Package: pcaExplorer Version: 2.30.0 Command: /Library/Frameworks/R.framework/Resources/bin/R CMD INSTALL pcaExplorer StartedAt: 2024-10-16 18:23:22 -0400 (Wed, 16 Oct 2024) EndedAt: 2024-10-16 18:24:13 -0400 (Wed, 16 Oct 2024) EllapsedTime: 51.0 seconds RetCode: 0 Status: OK