Package: paxtoolsr Version: 1.38.0 Command: F:\biocbuild\bbs-3.19-bioc\R\bin\R.exe CMD INSTALL paxtoolsr StartedAt: 2024-06-26 15:46:20 -0400 (Wed, 26 Jun 2024) EndedAt: 2024-06-26 15:46:40 -0400 (Wed, 26 Jun 2024) EllapsedTime: 19.8 seconds RetCode: 0 Status: OK