Package: paxtoolsr Version: 1.38.0 Command: rm -rf paxtoolsr.buildbin-libdir && mkdir paxtoolsr.buildbin-libdir && F:\biocbuild\bbs-3.19-bioc\R\bin\R.exe CMD INSTALL --build --library=paxtoolsr.buildbin-libdir paxtoolsr_1.38.0.tar.gz StartedAt: 2024-06-27 08:39:24 -0400 (Thu, 27 Jun 2024) EndedAt: 2024-06-27 08:39:50 -0400 (Thu, 27 Jun 2024) EllapsedTime: 26.0 seconds RetCode: 0 Status: OK PackageFile: paxtoolsr_1.38.0.zip PackageFileSize: 24.83 MiB