Package: paxtoolsr Version: 1.38.0 Command: /Library/Frameworks/R.framework/Resources/bin/R CMD INSTALL paxtoolsr StartedAt: 2024-06-09 15:07:25 -0400 (Sun, 09 Jun 2024) EndedAt: 2024-06-09 15:07:51 -0400 (Sun, 09 Jun 2024) EllapsedTime: 26.1 seconds RetCode: 0 Status: OK