Package: paxtoolsr Version: 1.38.0 Command: /Library/Frameworks/R.framework/Resources/bin/R CMD check --install=check:paxtoolsr.install-out.txt --library=/Library/Frameworks/R.framework/Resources/library --no-vignettes --timings paxtoolsr_1.38.0.tar.gz StartedAt: 2024-06-09 22:08:50 -0400 (Sun, 09 Jun 2024) EndedAt: 2024-06-09 22:10:15 -0400 (Sun, 09 Jun 2024) EllapsedTime: 85.0 seconds RetCode: 1 Status: ERROR CheckDir: paxtoolsr.Rcheck Warnings: NA