Package: paxtoolsr Version: 1.38.0 Command: /Library/Frameworks/R.framework/Resources/bin/R CMD check --install=check:paxtoolsr.install-out.txt --library=/Library/Frameworks/R.framework/Resources/library --no-vignettes --timings paxtoolsr_1.38.0.tar.gz StartedAt: 2024-06-11 00:57:59 -0400 (Tue, 11 Jun 2024) EndedAt: 2024-06-11 01:02:13 -0400 (Tue, 11 Jun 2024) EllapsedTime: 254.3 seconds RetCode: 1 Status: ERROR CheckDir: paxtoolsr.Rcheck Warnings: NA