Package: paxtoolsr Version: 1.38.0 Command: /Library/Frameworks/R.framework/Resources/bin/R CMD build --keep-empty-dirs --no-resave-data paxtoolsr StartedAt: 2024-06-10 02:20:54 -0400 (Mon, 10 Jun 2024) EndedAt: 2024-06-10 02:22:19 -0400 (Mon, 10 Jun 2024) EllapsedTime: 85.1 seconds RetCode: 0 Status: OK PackageFile: paxtoolsr_1.38.0.tar.gz PackageFileSize: 25.47 MiB