Package: pathwayPCA Version: 1.20.0 Command: rm -rf pathwayPCA.buildbin-libdir && mkdir pathwayPCA.buildbin-libdir && F:\biocbuild\bbs-3.19-bioc\R\bin\R.exe CMD INSTALL --build --library=pathwayPCA.buildbin-libdir pathwayPCA_1.20.0.tar.gz StartedAt: 2024-06-27 08:39:23 -0400 (Thu, 27 Jun 2024) EndedAt: 2024-06-27 08:39:48 -0400 (Thu, 27 Jun 2024) EllapsedTime: 25.8 seconds RetCode: 0 Status: OK PackageFile: pathwayPCA_1.20.0.zip PackageFileSize: 2.817 MiB