Package: pathwayPCA Version: 1.20.0 Command: /Library/Frameworks/R.framework/Resources/bin/R CMD build --keep-empty-dirs --no-resave-data pathwayPCA StartedAt: 2024-10-16 21:58:07 -0400 (Wed, 16 Oct 2024) EndedAt: 2024-10-16 22:05:15 -0400 (Wed, 16 Oct 2024) EllapsedTime: 427.8 seconds RetCode: 0 Status: OK PackageFile: pathwayPCA_1.20.0.tar.gz PackageFileSize: 3.476 MiB