Package: pathwayPCA Version: 1.20.0 Command: rm -rf pathwayPCA.buildbin-libdir && mkdir pathwayPCA.buildbin-libdir && /Users/biocbuild/BBS/utils/build-universal.sh pathwayPCA_1.20.0.tar.gz /Library/Frameworks/R.framework/Resources/bin/R pathwayPCA.buildbin-libdir StartedAt: 2024-06-11 12:28:49 -0400 (Tue, 11 Jun 2024) EndedAt: 2024-06-11 12:29:08 -0400 (Tue, 11 Jun 2024) EllapsedTime: 18.7 seconds RetCode: 0 Status: OK PackageFile: pathwayPCA_1.20.0.tgz PackageFileSize: 3.429 MiB