Package: pathview Version: 1.44.0 Command: rm -rf pathview.buildbin-libdir && mkdir pathview.buildbin-libdir && E:\biocbuild\bbs-3.19-bioc\R\bin\R.exe CMD INSTALL --build --library=pathview.buildbin-libdir pathview_1.44.0.tar.gz StartedAt: 2024-10-17 08:19:46 -0400 (Thu, 17 Oct 2024) EndedAt: 2024-10-17 08:20:17 -0400 (Thu, 17 Oct 2024) EllapsedTime: 31.0 seconds RetCode: 0 Status: OK PackageFile: pathview_1.44.0.zip PackageFileSize: 2.783 MiB