Package: pathview Version: 1.44.0 Command: chmod a+r pathview -R && F:\biocbuild\bbs-3.19-bioc\R\bin\R.exe CMD build --keep-empty-dirs --no-resave-data pathview StartedAt: 2024-06-26 20:53:26 -0400 (Wed, 26 Jun 2024) EndedAt: 2024-06-26 20:55:13 -0400 (Wed, 26 Jun 2024) EllapsedTime: 107.5 seconds RetCode: 0 Status: OK PackageFile: pathview_1.44.0.tar.gz PackageFileSize: 2.474 MiB