Package: pathview Version: 1.44.0 Command: rm -rf pathview.buildbin-libdir && mkdir pathview.buildbin-libdir && F:\biocbuild\bbs-3.19-bioc\R\bin\R.exe CMD INSTALL --build --library=pathview.buildbin-libdir pathview_1.44.0.tar.gz StartedAt: 2024-06-27 08:39:21 -0400 (Thu, 27 Jun 2024) EndedAt: 2024-06-27 08:39:45 -0400 (Thu, 27 Jun 2024) EllapsedTime: 24.1 seconds RetCode: 0 Status: OK PackageFile: pathview_1.44.0.zip PackageFileSize: 2.773 MiB