Package: pathview Version: 1.44.0 Command: /Library/Frameworks/R.framework/Resources/bin/R CMD INSTALL pathview StartedAt: 2024-10-16 15:36:53 -0400 (Wed, 16 Oct 2024) EndedAt: 2024-10-16 15:37:35 -0400 (Wed, 16 Oct 2024) EllapsedTime: 41.9 seconds RetCode: 0 Status: OK