Package: pathview Version: 1.44.0 Command: /home/biocbuild/R/R-beta-2024-04-15_r86425/bin/R CMD check --install=check:pathview.install-out.txt --library=/home/biocbuild/R/R-beta-2024-04-15_r86425/site-library --no-vignettes --timings pathview_1.44.0.tar.gz StartedAt: 2024-05-09 10:24:45 -0000 (Thu, 09 May 2024) EndedAt: 2024-05-09 10:27:56 -0000 (Thu, 09 May 2024) EllapsedTime: 190.3 seconds RetCode: 0 Status: WARNINGS CheckDir: pathview.Rcheck Warnings: 1