Package: pathlinkR Version: 1.0.1 Command: E:\biocbuild\bbs-3.19-bioc\R\bin\R.exe CMD INSTALL pathlinkR StartedAt: 2024-10-16 17:19:01 -0400 (Wed, 16 Oct 2024) EndedAt: 2024-10-16 17:19:31 -0400 (Wed, 16 Oct 2024) EllapsedTime: 29.8 seconds RetCode: 0 Status: OK