Package: pathlinkR Version: 1.0.1 Command: chmod a+r pathlinkR -R && E:\biocbuild\bbs-3.19-bioc\R\bin\R.exe CMD build --keep-empty-dirs --no-resave-data pathlinkR StartedAt: 2024-10-16 20:57:57 -0400 (Wed, 16 Oct 2024) EndedAt: 2024-10-16 21:11:40 -0400 (Wed, 16 Oct 2024) EllapsedTime: 823.5 seconds RetCode: 0 Status: OK PackageFile: pathlinkR_1.0.1.tar.gz PackageFileSize: 3.079 MiB