Package: pathlinkR Version: 1.0.0 Command: F:\biocbuild\bbs-3.19-bioc\R\bin\R.exe CMD check --no-multiarch --install=check:pathlinkR.install-out.txt --library=F:\biocbuild\bbs-3.19-bioc\R\library --no-vignettes --timings pathlinkR_1.0.0.tar.gz StartedAt: 2024-06-27 04:35:47 -0400 (Thu, 27 Jun 2024) EndedAt: 2024-06-27 04:42:15 -0400 (Thu, 27 Jun 2024) EllapsedTime: 388.9 seconds RetCode: 0 Status: OK CheckDir: pathlinkR.Rcheck Warnings: 0