Package: pathlinkR Version: 1.0.0 Command: chmod a+r pathlinkR -R && F:\biocbuild\bbs-3.19-bioc\R\bin\R.exe CMD build --keep-empty-dirs --no-resave-data pathlinkR StartedAt: 2024-06-26 20:52:26 -0400 (Wed, 26 Jun 2024) EndedAt: 2024-06-26 21:00:19 -0400 (Wed, 26 Jun 2024) EllapsedTime: 473.0 seconds RetCode: 0 Status: OK PackageFile: pathlinkR_1.0.0.tar.gz PackageFileSize: 3.033 MiB