Package: pathlinkR Version: 1.0.0 Command: rm -rf pathlinkR.buildbin-libdir && mkdir pathlinkR.buildbin-libdir && F:\biocbuild\bbs-3.19-bioc\R\bin\R.exe CMD INSTALL --build --library=pathlinkR.buildbin-libdir pathlinkR_1.0.0.tar.gz StartedAt: 2024-06-27 08:39:13 -0400 (Thu, 27 Jun 2024) EndedAt: 2024-06-27 08:39:37 -0400 (Thu, 27 Jun 2024) EllapsedTime: 24.4 seconds RetCode: 0 Status: OK PackageFile: pathlinkR_1.0.0.zip PackageFileSize: 3.159 MiB