Package: pathlinkR Version: 1.0.1 Command: /home/biocbuild/bbs-3.19-bioc/R/bin/R CMD build --keep-empty-dirs --no-resave-data pathlinkR StartedAt: 2024-10-16 20:03:53 -0400 (Wed, 16 Oct 2024) EndedAt: 2024-10-16 20:07:50 -0400 (Wed, 16 Oct 2024) EllapsedTime: 236.5 seconds RetCode: 0 Status: OK PackageFile: pathlinkR_1.0.1.tar.gz PackageFileSize: 4.323 MiB