Package: pathlinkR Version: 1.0.1 Command: /Library/Frameworks/R.framework/Resources/bin/R CMD INSTALL pathlinkR StartedAt: 2024-10-16 16:46:49 -0400 (Wed, 16 Oct 2024) EndedAt: 2024-10-16 16:47:25 -0400 (Wed, 16 Oct 2024) EllapsedTime: 35.9 seconds RetCode: 0 Status: OK