Package: pathlinkR Version: 1.0.0 Command: /home/biocbuild/R/R-beta-2024-04-15_r86425/bin/R CMD build --keep-empty-dirs --no-resave-data pathlinkR StartedAt: 2024-05-09 02:24:12 -0000 (Thu, 09 May 2024) EndedAt: 2024-05-09 02:29:22 -0000 (Thu, 09 May 2024) EllapsedTime: 310.4 seconds RetCode: 0 Status: OK PackageFile: pathlinkR_1.0.0.tar.gz PackageFileSize: 3.133 MiB