Package: pathlinkR Version: 1.0.1 Command: /Library/Frameworks/R.framework/Resources/bin/R CMD check --install=check:pathlinkR.install-out.txt --library=/Library/Frameworks/R.framework/Resources/library --no-vignettes --timings pathlinkR_1.0.1.tar.gz StartedAt: 2024-10-18 07:02:19 -0400 (Fri, 18 Oct 2024) EndedAt: 2024-10-18 07:08:14 -0400 (Fri, 18 Oct 2024) EllapsedTime: 354.5 seconds RetCode: 0 Status: OK CheckDir: pathlinkR.Rcheck Warnings: 0