Package: pathifier Version: 1.42.0 Command: E:\biocbuild\bbs-3.19-bioc\R\bin\R.exe CMD INSTALL pathifier StartedAt: 2024-10-16 16:03:04 -0400 (Wed, 16 Oct 2024) EndedAt: 2024-10-16 16:03:16 -0400 (Wed, 16 Oct 2024) EllapsedTime: 11.5 seconds RetCode: 0 Status: OK