Package: pathifier Version: 1.42.0 Command: rm -rf pathifier.buildbin-libdir && mkdir pathifier.buildbin-libdir && F:\biocbuild\bbs-3.19-bioc\R\bin\R.exe CMD INSTALL --build --library=pathifier.buildbin-libdir pathifier_1.42.0.tar.gz StartedAt: 2024-06-27 08:39:11 -0400 (Thu, 27 Jun 2024) EndedAt: 2024-06-27 08:39:33 -0400 (Thu, 27 Jun 2024) EllapsedTime: 22.0 seconds RetCode: 0 Status: OK PackageFile: pathifier_1.42.0.zip PackageFileSize: 1.935 MiB