Package: pathifier Version: 1.42.0 Command: /Library/Frameworks/R.framework/Resources/bin/R CMD INSTALL pathifier StartedAt: 2024-10-16 15:09:38 -0400 (Wed, 16 Oct 2024) EndedAt: 2024-10-16 15:09:58 -0400 (Wed, 16 Oct 2024) EllapsedTime: 19.7 seconds RetCode: 0 Status: OK