Package: pathifier Version: 1.42.0 Command: /Library/Frameworks/R.framework/Resources/bin/R CMD build --keep-empty-dirs --no-resave-data pathifier StartedAt: 2024-10-16 21:55:54 -0400 (Wed, 16 Oct 2024) EndedAt: 2024-10-16 21:57:09 -0400 (Wed, 16 Oct 2024) EllapsedTime: 75.2 seconds RetCode: 0 Status: OK PackageFile: pathifier_1.42.0.tar.gz PackageFileSize: 2.033 MiB