Package: pathVar Version: 1.34.0 Command: rm -rf pathVar.buildbin-libdir && mkdir pathVar.buildbin-libdir && F:\biocbuild\bbs-3.19-bioc\R\bin\R.exe CMD INSTALL --build --library=pathVar.buildbin-libdir pathVar_1.34.0.tar.gz StartedAt: 2024-06-27 08:39:19 -0400 (Thu, 27 Jun 2024) EndedAt: 2024-06-27 08:39:43 -0400 (Thu, 27 Jun 2024) EllapsedTime: 23.9 seconds RetCode: 0 Status: OK PackageFile: pathVar_1.34.0.zip PackageFileSize: 4.108 MiB