Package: pathVar Version: 1.34.0 Command: /home/biocbuild/bbs-3.19-bioc/R/bin/R CMD INSTALL pathVar StartedAt: 2024-10-16 15:55:36 -0400 (Wed, 16 Oct 2024) EndedAt: 2024-10-16 15:55:41 -0400 (Wed, 16 Oct 2024) EllapsedTime: 5.1 seconds RetCode: 0 Status: OK