Package: pathVar Version: 1.34.0 Command: /home/biocbuild/bbs-3.19-bioc/R/bin/R CMD check --install=check:pathVar.install-out.txt --library=/home/biocbuild/bbs-3.19-bioc/R/site-library --timings pathVar_1.34.0.tar.gz StartedAt: 2024-10-17 03:37:39 -0400 (Thu, 17 Oct 2024) EndedAt: 2024-10-17 03:40:43 -0400 (Thu, 17 Oct 2024) EllapsedTime: 183.5 seconds RetCode: 1 Status: ERROR CheckDir: pathVar.Rcheck Warnings: NA