Package: pathVar Version: 1.34.0 Command: /home/biocbuild/bbs-3.19-bioc/R/bin/R CMD build --keep-empty-dirs --no-resave-data pathVar StartedAt: 2024-10-16 20:04:14 -0400 (Wed, 16 Oct 2024) EndedAt: 2024-10-16 20:05:39 -0400 (Wed, 16 Oct 2024) EllapsedTime: 85.1 seconds RetCode: 0 Status: OK PackageFile: pathVar_1.34.0.tar.gz PackageFileSize: 3.963 MiB