Package: pathVar Version: 1.34.0 Command: /Library/Frameworks/R.framework/Resources/bin/R CMD INSTALL pathVar StartedAt: 2024-10-16 15:14:15 -0400 (Wed, 16 Oct 2024) EndedAt: 2024-10-16 15:14:37 -0400 (Wed, 16 Oct 2024) EllapsedTime: 22.3 seconds RetCode: 0 Status: OK