Package: pathVar Version: 1.34.0 Command: /home/biocbuild/R/R-beta-2024-04-15_r86425/bin/R CMD check --install=check:pathVar.install-out.txt --library=/home/biocbuild/R/R-beta-2024-04-15_r86425/site-library --no-vignettes --timings pathVar_1.34.0.tar.gz StartedAt: 2024-05-09 10:24:38 -0000 (Thu, 09 May 2024) EndedAt: 2024-05-09 10:26:09 -0000 (Thu, 09 May 2024) EllapsedTime: 90.2 seconds RetCode: 1 Status: ERROR CheckDir: pathVar.Rcheck Warnings: NA