Package: pathVar Version: 1.34.0 Command: /Library/Frameworks/R.framework/Resources/bin/R CMD build --keep-empty-dirs --no-resave-data pathVar StartedAt: 2024-10-17 06:13:14 -0400 (Thu, 17 Oct 2024) EndedAt: 2024-10-17 06:15:05 -0400 (Thu, 17 Oct 2024) EllapsedTime: 111.4 seconds RetCode: 0 Status: OK PackageFile: pathVar_1.34.0.tar.gz PackageFileSize: 4.063 MiB