Package: pathVar Version: 1.34.0 Command: rm -rf pathVar.buildbin-libdir && mkdir pathVar.buildbin-libdir && /Users/biocbuild/BBS/utils/build-universal.sh pathVar_1.34.0.tar.gz /Library/Frameworks/R.framework/Resources/bin/R pathVar.buildbin-libdir StartedAt: 2024-10-18 19:54:12 -0400 (Fri, 18 Oct 2024) EndedAt: 2024-10-18 19:54:24 -0400 (Fri, 18 Oct 2024) EllapsedTime: 11.4 seconds RetCode: 0 Status: OK PackageFile: pathVar_1.34.0.tgz PackageFileSize: 4.205 MiB