Package: pathRender Version: 1.72.0 Command: E:\biocbuild\bbs-3.19-bioc\R\bin\R.exe CMD INSTALL pathRender StartedAt: 2024-10-16 16:19:48 -0400 (Wed, 16 Oct 2024) EndedAt: 2024-10-16 16:20:15 -0400 (Wed, 16 Oct 2024) EllapsedTime: 27.0 seconds RetCode: 0 Status: OK