Package: pathRender Version: 1.72.0 Command: /home/biocbuild/R/R-beta-2024-04-15_r86425/bin/R CMD check --install=check:pathRender.install-out.txt --library=/home/biocbuild/R/R-beta-2024-04-15_r86425/site-library --no-vignettes --timings pathRender_1.72.0.tar.gz StartedAt: 2024-05-09 10:24:37 -0000 (Thu, 09 May 2024) EndedAt: 2024-05-09 10:26:37 -0000 (Thu, 09 May 2024) EllapsedTime: 119.2 seconds RetCode: 0 Status: OK CheckDir: pathRender.Rcheck Warnings: 0