Package: pathRender Version: 1.72.0 Command: /Library/Frameworks/R.framework/Resources/bin/R CMD INSTALL pathRender StartedAt: 2024-10-16 16:12:43 -0400 (Wed, 16 Oct 2024) EndedAt: 2024-10-16 16:13:00 -0400 (Wed, 16 Oct 2024) EllapsedTime: 16.7 seconds RetCode: 0 Status: OK