Package: pathRender Version: 1.72.0 Command: rm -rf pathRender.buildbin-libdir && mkdir pathRender.buildbin-libdir && /Users/biocbuild/BBS/utils/build-universal.sh pathRender_1.72.0.tar.gz /Library/Frameworks/R.framework/Resources/bin/R pathRender.buildbin-libdir StartedAt: 2024-10-18 19:54:10 -0400 (Fri, 18 Oct 2024) EndedAt: 2024-10-18 19:54:32 -0400 (Fri, 18 Oct 2024) EllapsedTime: 21.6 seconds RetCode: 0 Status: OK PackageFile: pathRender_1.72.0.tgz PackageFileSize: 355.6 KiB