Package: partCNV Version: 1.2.0 Command: /home/biocbuild/bbs-3.19-bioc/R/bin/R CMD build --keep-empty-dirs --no-resave-data partCNV StartedAt: 2024-10-16 20:03:40 -0400 (Wed, 16 Oct 2024) EndedAt: 2024-10-16 20:04:56 -0400 (Wed, 16 Oct 2024) EllapsedTime: 76.2 seconds RetCode: 1 Status: ERROR PackageFile: None PackageFileSize: NA