Package: partCNV Version: 1.2.0 Command: /Library/Frameworks/R.framework/Resources/bin/R CMD check --install=check:partCNV.install-out.txt --library=/Library/Frameworks/R.framework/Resources/library --no-vignettes --timings partCNV_1.2.0.tar.gz StartedAt: 2024-06-09 22:07:52 -0400 (Sun, 09 Jun 2024) EndedAt: 2024-06-09 22:14:44 -0400 (Sun, 09 Jun 2024) EllapsedTime: 412.3 seconds RetCode: 0 Status: OK CheckDir: partCNV.Rcheck Warnings: 0