Package: partCNV Version: 1.2.0 Command: /Library/Frameworks/R.framework/Resources/bin/R CMD INSTALL partCNV StartedAt: 2024-06-09 16:56:18 -0400 (Sun, 09 Jun 2024) EndedAt: 2024-06-09 16:57:16 -0400 (Sun, 09 Jun 2024) EllapsedTime: 57.8 seconds RetCode: 0 Status: OK