Package: partCNV Version: 1.2.0 Command: /Library/Frameworks/R.framework/Resources/bin/R CMD INSTALL partCNV StartedAt: 2024-10-16 17:58:12 -0400 (Wed, 16 Oct 2024) EndedAt: 2024-10-16 17:59:01 -0400 (Wed, 16 Oct 2024) EllapsedTime: 48.8 seconds RetCode: 0 Status: OK