Package: partCNV Version: 1.2.0 Command: /Library/Frameworks/R.framework/Resources/bin/R CMD build --keep-empty-dirs --no-resave-data partCNV StartedAt: 2024-10-17 06:11:18 -0400 (Thu, 17 Oct 2024) EndedAt: 2024-10-17 06:12:27 -0400 (Thu, 17 Oct 2024) EllapsedTime: 68.8 seconds RetCode: 1 Status: ERROR PackageFile: None PackageFileSize: NA