Package: partCNV Version: 1.2.0 Maintainer: Ziyi Li MaintainerEmail: zli16 at mdanderson.org git_url: https://git.bioconductor.org/packages/partCNV git_branch: RELEASE_3_19 git_last_commit: fd57476 git_last_commit_date: 2024-04-30 11:49:46 -0400 (Tue, 30 Apr 2024)