Package: parody Version: 1.62.0 Command: E:\biocbuild\bbs-3.19-bioc\R\bin\R.exe CMD check --no-multiarch --install=check:parody.install-out.txt --library=E:\biocbuild\bbs-3.19-bioc\R\library --no-vignettes --timings parody_1.62.0.tar.gz StartedAt: 2024-10-17 04:18:32 -0400 (Thu, 17 Oct 2024) EndedAt: 2024-10-17 04:19:03 -0400 (Thu, 17 Oct 2024) EllapsedTime: 30.5 seconds RetCode: 0 Status: OK CheckDir: parody.Rcheck Warnings: 0