Package: parody Version: 1.62.0 Command: chmod a+r parody -R && E:\biocbuild\bbs-3.19-bioc\R\bin\R.exe CMD build --keep-empty-dirs --no-resave-data parody StartedAt: 2024-10-16 20:57:02 -0400 (Wed, 16 Oct 2024) EndedAt: 2024-10-16 20:57:27 -0400 (Wed, 16 Oct 2024) EllapsedTime: 24.6 seconds RetCode: 0 Status: OK PackageFile: parody_1.62.0.tar.gz PackageFileSize: 304.7 KiB