Package: parody Version: 1.62.0 Command: F:\biocbuild\bbs-3.19-bioc\R\bin\R.exe CMD INSTALL parody StartedAt: 2024-06-26 15:44:30 -0400 (Wed, 26 Jun 2024) EndedAt: 2024-06-26 15:44:50 -0400 (Wed, 26 Jun 2024) EllapsedTime: 19.9 seconds RetCode: 0 Status: OK